BEGIN:VCALENDAR
VERSION:2.0
PRODID:-//eventon.com NONSGML v1.0//EN
CALSCALE:GREGORIAN
METHOD:PUBLISH
BEGIN:VEVENT
UID:69e63506382b5
DTSTAMP:20260420T141534Z
DTSTART:20201226T083000Z
DTEND:20201226T123000Z
LOCATION:
SUMMARY:Sant Silvestre Masnou
DESCRIPTION:Sant Silvestre Masnou\nhttps://corriendovoy.com/events/sant-sil
 vestre-masnou/
URL:https://corriendovoy.com/events/sant-silvestre-masnou/
END:VEVENT
END:VCALENDAR