BEGIN:VCALENDAR
VERSION:2.0
PRODID:-//eventon.com NONSGML v1.0//EN
CALSCALE:GREGORIAN
METHOD:PUBLISH
BEGIN:VEVENT
UID:69ecc7951c89c
DTSTAMP:20260425T135429Z
DTSTART:20260927T090000Z
DTEND:20260927T120000Z
LOCATION:
SUMMARY:Carrera Popular del Corazón 2026
DESCRIPTION:Carrera organizada por la Fundación Española del Corazón par
 a promover hábitos de vida saludables. Incluye carrera de 10k\,  marcha de
  5k y carreras infantiles.Web oficial: https://www.carrerapopulardelcorazon
 .com/\nhttps://corriendovoy.com/events/carrera-popular-del-corazon-2026/
URL:https://corriendovoy.com/events/carrera-popular-del-corazon-2026/
END:VEVENT
END:VCALENDAR