BEGIN:VCALENDAR
VERSION:2.0
PRODID:-//eventon.com NONSGML v1.0//EN
CALSCALE:GREGORIAN
METHOD:PUBLISH
BEGIN:VEVENT
UID:69e74d6a5ec2e
DTSTAMP:20260421T101154Z
DTSTART:20261231T173000Z
DTEND:20261231T190000Z
LOCATION:
SUMMARY:San Silvestre de los Nassos 2026
DESCRIPTION:10k rápidos para despedir el año.\nhttps://corriendovoy.com/e
 vents/san-silvestre-de-los-nassos-2026/
URL:https://corriendovoy.com/events/san-silvestre-de-los-nassos-2026/
END:VEVENT
END:VCALENDAR