BEGIN:VCALENDAR
VERSION:2.0
PRODID:-//eventon.com NONSGML v1.0//EN
CALSCALE:GREGORIAN
METHOD:PUBLISH
BEGIN:VEVENT
UID:69e763d6c0367
DTSTAMP:20260421T114734Z
DTSTART:20261231T170000Z
DTEND:20261231T183000Z
LOCATION:
SUMMARY:San Silvestre de Gijón 2026
DESCRIPTION:Una de las San Silvestres con más tradición del norte.\nhttps
 ://corriendovoy.com/events/san-silvestre-de-gijon-2026/
URL:https://corriendovoy.com/events/san-silvestre-de-gijon-2026/
END:VEVENT
END:VCALENDAR