BEGIN:VCALENDAR
VERSION:2.0
PRODID:-//eventon.com NONSGML v1.0//EN
CALSCALE:GREGORIAN
METHOD:PUBLISH
BEGIN:VEVENT
UID:69e763d890e8a
DTSTAMP:20260421T114736Z
DTSTART:20261101T100000Z
DTEND:20261101T140000Z
LOCATION:
SUMMARY:Cross de Atapuerca 2026
DESCRIPTION:El mejor campo a través del mundo.\nhttps://corriendovoy.com/e
 vents/cross-de-atapuerca-2026/
URL:https://corriendovoy.com/events/cross-de-atapuerca-2026/
END:VEVENT
END:VCALENDAR