BEGIN:VCALENDAR
VERSION:2.0
PRODID:-//eventon.com NONSGML v1.0//EN
CALSCALE:GREGORIAN
METHOD:PUBLISH
BEGIN:VEVENT
UID:69e763d7e0fe3
DTSTAMP:20260421T114735Z
DTSTART:20261025T100000Z
DTEND:20261025T130000Z
LOCATION:
SUMMARY:Subida al Angliru 2026
DESCRIPTION:El asfalto más empinado y épico de España.\nhttps://corriend
 ovoy.com/events/subida-al-angliru-2026/
URL:https://corriendovoy.com/events/subida-al-angliru-2026/
END:VEVENT
END:VCALENDAR