BEGIN:VCALENDAR
VERSION:2.0
PRODID:-//eventon.com NONSGML v1.0//EN
CALSCALE:GREGORIAN
METHOD:PUBLISH
BEGIN:VEVENT
UID:69e763d8c8d33
DTSTAMP:20260421T114736Z
DTSTART:20261004T100000Z
DTEND:20261004T123000Z
LOCATION:
SUMMARY:Media Maratón San Sebastián 2026
DESCRIPTION:La clásica de otoño en la playa de la Concha.\nhttps://corrie
 ndovoy.com/events/media-maraton-san-sebastian-2026/
URL:https://corriendovoy.com/events/media-maraton-san-sebastian-2026/
END:VEVENT
END:VCALENDAR