BEGIN:VCALENDAR
VERSION:2.0
PRODID:-//eventon.com NONSGML v1.0//EN
CALSCALE:GREGORIAN
METHOD:PUBLISH
BEGIN:VEVENT
UID:69e763d7aa657
DTSTAMP:20260421T114735Z
DTSTART:20260725T213000Z
DTEND:20260725T230000Z
LOCATION:
SUMMARY:Nocturna de Santiago de Compostela 2026
DESCRIPTION:Misticismo en la meta de la Plaza del Obradoiro.\nhttps://corri
 endovoy.com/events/nocturna-de-santiago-de-compostela-2026/
URL:https://corriendovoy.com/events/nocturna-de-santiago-de-compostela-2026/
END:VEVENT
END:VCALENDAR