BEGIN:VCALENDAR
VERSION:2.0
PRODID:-//eventon.com NONSGML v1.0//EN
CALSCALE:GREGORIAN
METHOD:PUBLISH
BEGIN:VEVENT
UID:69e76385b67de
DTSTAMP:20260421T114613Z
DTSTART:20260704T070000Z
DTEND:20260704T220000Z
LOCATION:
SUMMARY:Desafío Somiedo 2026
DESCRIPTION:Trail puro en el Parque Natural de Somiedo.\nhttps://corriendov
 oy.com/events/desafio-somiedo-2026/
URL:https://corriendovoy.com/events/desafio-somiedo-2026/
END:VEVENT
END:VCALENDAR