BEGIN:VCALENDAR
VERSION:2.0
PRODID:-//eventon.com NONSGML v1.0//EN
CALSCALE:GREGORIAN
METHOD:PUBLISH
BEGIN:VEVENT
UID:69e763d90b0e5
DTSTAMP:20260421T114737Z
DTSTART:20260628T090000Z
DTEND:20260628T140000Z
LOCATION:
SUMMARY:Zumaia Flysch Trail 2026
DESCRIPTION:Trail técnico por los acantilados del Geoparque.\nhttps://corr
 iendovoy.com/events/zumaia-flysch-trail-2026/
URL:https://corriendovoy.com/events/zumaia-flysch-trail-2026/
END:VEVENT
END:VCALENDAR