BEGIN:VCALENDAR
VERSION:2.0
PRODID:-//eventon.com NONSGML v1.0//EN
CALSCALE:GREGORIAN
METHOD:PUBLISH
BEGIN:VEVENT
UID:69e763de15e22
DTSTAMP:20260421T114742Z
DTSTART:20260606T210000Z
DTEND:20260606T223000Z
LOCATION:
SUMMARY:10K Nocturna Santander 2026
DESCRIPTION:Correr junto al Cantábrico bajo las estrellas.\nhttps://corrie
 ndovoy.com/events/10k-nocturna-santander-2026/
URL:https://corriendovoy.com/events/10k-nocturna-santander-2026/
END:VEVENT
END:VCALENDAR