BEGIN:VCALENDAR
VERSION:2.0
PRODID:-//eventon.com NONSGML v1.0//EN
CALSCALE:GREGORIAN
METHOD:PUBLISH
BEGIN:VEVENT
UID:69e763d676b28
DTSTAMP:20260421T114734Z
DTSTART:20260531T100000Z
DTEND:20260531T120000Z
LOCATION:
SUMMARY:Carrera de la Mujer Vitoria 2026
DESCRIPTION:Circuito de la mujer en la capital vasca.\nhttps://corriendovoy
 .com/events/carrera-de-la-mujer-vitoria-2026/
URL:https://corriendovoy.com/events/carrera-de-la-mujer-vitoria-2026/
END:VEVENT
END:VCALENDAR