BEGIN:VCALENDAR
VERSION:2.0
PRODID:-//eventon.com NONSGML v1.0//EN
CALSCALE:GREGORIAN
METHOD:PUBLISH
BEGIN:VEVENT
UID:69e763d5dabac
DTSTAMP:20260421T114733Z
DTSTART:20260522T080000Z
DTEND:20260524T180000Z
LOCATION:
SUMMARY:Trail Menorca Camí de Cavalls 2026
DESCRIPTION:Aventura por todo el perímetro de la isla.\nhttps://corriendov
 oy.com/events/trail-menorca-cami-de-cavalls-2026/
URL:https://corriendovoy.com/events/trail-menorca-cami-de-cavalls-2026/
END:VEVENT
END:VCALENDAR