BEGIN:VCALENDAR
VERSION:2.0
PRODID:-//eventon.com NONSGML v1.0//EN
CALSCALE:GREGORIAN
METHOD:PUBLISH
BEGIN:VEVENT
UID:69e763d822aff
DTSTAMP:20260421T114736Z
DTSTART:20260510T103000Z
DTEND:20260510T130000Z
LOCATION:
SUMMARY:Media Maratón de León 2026
DESCRIPTION:Recorrido llano por el centro histórico.\nhttps://corriendovoy
 .com/events/media-maraton-de-leon-2026/
URL:https://corriendovoy.com/events/media-maraton-de-leon-2026/
END:VEVENT
END:VCALENDAR