BEGIN:VCALENDAR
VERSION:2.0
PRODID:-//eventon.com NONSGML v1.0//EN
CALSCALE:GREGORIAN
METHOD:PUBLISH
BEGIN:VEVENT
UID:69e763d5d233f
DTSTAMP:20260421T114733Z
DTSTART:20261122T090000Z
DTEND:20261122T150000Z
LOCATION:
SUMMARY:Maratón de San Sebastián 2026
DESCRIPTION:Circuito llano y rápido a nivel del mar.\nhttps://corriendovoy
 .com/events/maraton-de-san-sebastian-2026/
URL:https://corriendovoy.com/events/maraton-de-san-sebastian-2026/
END:VEVENT
END:VCALENDAR