BEGIN:VCALENDAR
VERSION:2.0
PRODID:-//eventon.com NONSGML v1.0//EN
CALSCALE:GREGORIAN
METHOD:PUBLISH
BEGIN:VEVENT
UID:69e763d85a4aa
DTSTAMP:20260421T114736Z
DTSTART:20261025T083000Z
DTEND:20261025T113000Z
LOCATION:
SUMMARY:Media Maratón Valencia 2026
DESCRIPTION:La media maratón más rápida del mundo. Ideal para marca pers
 onal.\nhttps://corriendovoy.com/events/media-maraton-valencia-2026/
URL:https://corriendovoy.com/events/media-maraton-valencia-2026/
END:VEVENT
END:VCALENDAR