BEGIN:VCALENDAR
VERSION:2.0
PRODID:-//eventon.com NONSGML v1.0//EN
CALSCALE:GREGORIAN
METHOD:PUBLISH
BEGIN:VEVENT
UID:69e763dd63ef3
DTSTAMP:20260421T114741Z
DTSTART:20261017T190000Z
DTEND:20261017T235900Z
LOCATION:
SUMMARY:Bilbao Night Marathon 2026
DESCRIPTION:Maratón\,  21k y 10k nocturno con meta en el Guggenheim.\nhttp
 s://corriendovoy.com/events/bilbao-night-marathon-2026/
URL:https://corriendovoy.com/events/bilbao-night-marathon-2026/
END:VEVENT
END:VCALENDAR