BEGIN:VCALENDAR
VERSION:2.0
PRODID:-//eventon.com NONSGML v1.0//EN
CALSCALE:GREGORIAN
METHOD:PUBLISH
BEGIN:VEVENT
UID:69e76389da324
DTSTAMP:20260421T114617Z
DTSTART:20261231T173000Z
DTEND:20261231T210000Z
LOCATION:
SUMMARY:San Silvestre Vallecana 2026
DESCRIPTION:La mejor forma de despedir el año corriendo por Madrid.\nhttps
 ://corriendovoy.com/events/san-silvestre-vallecana-2026/
URL:https://corriendovoy.com/events/san-silvestre-vallecana-2026/
END:VEVENT
END:VCALENDAR