BEGIN:VCALENDAR
VERSION:2.0
PRODID:-//eventon.com NONSGML v1.0//EN
CALSCALE:GREGORIAN
METHOD:PUBLISH
BEGIN:VEVENT
UID:69e763dcc776d
DTSTAMP:20260421T114740Z
DTSTART:20261206T081500Z
DTEND:20261206T143000Z
LOCATION:
SUMMARY:Maratón de Valencia 2026
DESCRIPTION:El maratón más rápido de España y uno de los mejores del mu
 ndo.\nhttps://corriendovoy.com/events/maraton-de-valencia-2026/
URL:https://corriendovoy.com/events/maraton-de-valencia-2026/
END:VEVENT
END:VCALENDAR