BEGIN:VCALENDAR
VERSION:2.0
PRODID:-//eventon.com NONSGML v1.0//EN
CALSCALE:GREGORIAN
METHOD:PUBLISH
BEGIN:VEVENT
UID:69e763d715e61
DTSTAMP:20260421T114735Z
DTSTART:20261108T093000Z
DTEND:20261108T130000Z
LOCATION:
SUMMARY:Behobia-San Sebastián 2026
DESCRIPTION:La carrera popular con más magia de España (20km).\nhttps://c
 orriendovoy.com/events/behobia-san-sebastian-2026/
URL:https://corriendovoy.com/events/behobia-san-sebastian-2026/
END:VEVENT
END:VCALENDAR