BEGIN:VCALENDAR
VERSION:2.0
PRODID:-//eventon.com NONSGML v1.0//EN
CALSCALE:GREGORIAN
METHOD:PUBLISH
BEGIN:VEVENT
UID:69e79135d21d3
DTSTAMP:20260421T150109Z
DTSTART:20260515T160000Z
DTEND:20260515T190000Z
LOCATION:
SUMMARY:Zegama-Aizkorri Kilómetro Vertical
DESCRIPTION:Prueba de ascenso vertical. Web: https://www.zegama-aizkorri.co
 m/\nhttps://corriendovoy.com/events/zegama-aizkorri-kilometro-vertical/
URL:https://corriendovoy.com/events/zegama-aizkorri-kilometro-vertical/
END:VEVENT
END:VCALENDAR