BEGIN:VCALENDAR
VERSION:2.0
PRODID:-//eventon.com NONSGML v1.0//EN
CALSCALE:GREGORIAN
METHOD:PUBLISH
BEGIN:VEVENT
UID:69e763dcc82a1
DTSTAMP:20260421T114740Z
DTSTART:20260418
DTEND:20260419
LOCATION:
SUMMARY:Santa Eulària Ibiza Marathon 2026
DESCRIPTION:Santa Eulària Ibiza Marathon 2026\nhttps://corriendovoy.com/ev
 ents/santa-eularia-ibiza-marathon-2026/
URL:https://corriendovoy.com/events/santa-eularia-ibiza-marathon-2026/
END:VEVENT
END:VCALENDAR