BEGIN:VCALENDAR
VERSION:2.0
PRODID:-//eventon.com NONSGML v1.0//EN
CALSCALE:GREGORIAN
METHOD:PUBLISH
BEGIN:VEVENT
UID:69e763d75e79a
DTSTAMP:20260421T114735Z
DTSTART:20260426
DTEND:20260427
LOCATION:
SUMMARY:Zurich Rock'n'Roll Running Series Madrid Maratón 2026
DESCRIPTION:Zurich Rock'n'Roll Running Series Madrid Maratón 2026\nhttps:/
 /corriendovoy.com/events/zurich-rocknroll-running-series-madrid-maraton-202
 6/
URL:https://corriendovoy.com/events/zurich-rocknroll-running-series-madrid-maraton-2026/
END:VEVENT
END:VCALENDAR