BEGIN:VCALENDAR
VERSION:2.0
PRODID:-//eventon.com NONSGML v1.0//EN
CALSCALE:GREGORIAN
METHOD:PUBLISH
BEGIN:VEVENT
UID:69e6351a93392
DTSTAMP:20260420T141554Z
DTSTART:20251123T080000Z
DTEND:20251123T225900Z
LOCATION:
SUMMARY:Zurich Maratón San Sebastián 2025
DESCRIPTION:\nhttps://corriendovoy.com/events/zurich-maraton-san-sebastian-
 2025/
URL:https://corriendovoy.com/events/zurich-maraton-san-sebastian-2025/
END:VEVENT
END:VCALENDAR